BEGIN:VCALENDAR
VERSION:2.0
BEGIN:VEVENT
DTSTART;TZID=Europe/Stockholm:20240223T190000
DTEND;TZID=Europe/Stockholm:20240223T200000
DTSTAMP:20260420T004847
DESCRIPTION:
SEQUENCE:0
SUMMARY:Kyrkan uthyrd
UID:9965@lawebb.se
END:VEVENT
END:VCALENDAR