BEGIN:VCALENDAR
VERSION:2.0
BEGIN:VEVENT
DTSTART;TZID=Europe/Stockholm:20240220T183000
DTEND;TZID=Europe/Stockholm:20240220T193000
DTSTAMP:20260420T004616
DESCRIPTION:Peter Henningsson leder Bibelstudium, samtal och bön. Vi avslutar med fika. Välkommen!
SEQUENCE:0
SUMMARY:Bibel o bön
UID:3632@lawebb.se
END:VEVENT
END:VCALENDAR