BEGIN:VCALENDAR
VERSION:2.0
BEGIN:VEVENT
DTSTART;TZID=Europe/Stockholm:20240216T190000
DTEND;TZID=Europe/Stockholm:20240216T200000
DTSTAMP:20260420T004729
DESCRIPTION:
SEQUENCE:0
SUMMARY:Kyrkan uthyrd
UID:8977@lawebb.se
END:VEVENT
END:VCALENDAR