BEGIN:VCALENDAR
VERSION:2.0
BEGIN:VEVENT
DTSTART;TZID=Europe/Stockholm:20240206T183000
DTEND;TZID=Europe/Stockholm:20240206T193000
DTSTAMP:20260420T004258
DESCRIPTION:Peter Henningsson leder Bibelstudium, samtal och bön. Vi avslutar med fika. Välkommen!
SEQUENCE:0
SUMMARY:Bibel o bön
UID:8323@lawebb.se
END:VEVENT
END:VCALENDAR