BEGIN:VCALENDAR
VERSION:2.0
BEGIN:VEVENT
DTSTART;TZID=Europe/Stockholm:20240202T190000
DTEND;TZID=Europe/Stockholm:20240202T200000
DTSTAMP:20260420T004647
DESCRIPTION:
SEQUENCE:0
SUMMARY:Kyrkan uthyrd
UID:9475@lawebb.se
END:VEVENT
END:VCALENDAR