BEGIN:VCALENDAR
VERSION:2.0
BEGIN:VEVENT
DTSTART;TZID=Europe/Stockholm:20220624T190000
DTEND;TZID=Europe/Stockholm:20220624T200000
DTSTAMP:20260422T164655
DESCRIPTION:
SEQUENCE:0
SUMMARY:Kyrkan uthyrd
UID:8732@lawebb.se
END:VEVENT
END:VCALENDAR