BEGIN:VCALENDAR
VERSION:2.0
BEGIN:VEVENT
DTSTART;TZID=Europe/Stockholm:20220617T190000
DTEND;TZID=Europe/Stockholm:20220617T200000
DTSTAMP:20260422T164556
DESCRIPTION:
SEQUENCE:0
SUMMARY:Kyrkan uthyrd
UID:2584@lawebb.se
END:VEVENT
END:VCALENDAR