BEGIN:VCALENDAR
VERSION:2.0
BEGIN:VEVENT
DTSTART;TZID=Europe/Stockholm:20220610T190000
DTEND;TZID=Europe/Stockholm:20220610T200000
DTSTAMP:20260422T163923
DESCRIPTION:
SEQUENCE:0
SUMMARY:Kyrkan uthyrd
UID:6762@lawebb.se
END:VEVENT
END:VCALENDAR