BEGIN:VCALENDAR
VERSION:2.0
BEGIN:VEVENT
DTSTART;TZID=Europe/Stockholm:20220527T190000
DTEND;TZID=Europe/Stockholm:20220527T200000
DTSTAMP:20260422T145650
DESCRIPTION:
SEQUENCE:0
SUMMARY:Kyrkan uthyrd
UID:5772@lawebb.se
END:VEVENT
END:VCALENDAR