BEGIN:VCALENDAR
VERSION:2.0
BEGIN:VEVENT
DTSTART;TZID=Europe/Stockholm:20220520T190000
DTEND;TZID=Europe/Stockholm:20220520T200000
DTSTAMP:20260422T150135
DESCRIPTION:
SEQUENCE:0
SUMMARY:Kyrkan uthyrd
UID:2337@lawebb.se
END:VEVENT
END:VCALENDAR