BEGIN:VCALENDAR
VERSION:2.0
BEGIN:VEVENT
DTSTART;TZID=Europe/Stockholm:20220513T190000
DTEND;TZID=Europe/Stockholm:20220513T200000
DTSTAMP:20260422T145840
DESCRIPTION:
SEQUENCE:0
SUMMARY:Kyrkan uthyrd
UID:3799@lawebb.se
END:VEVENT
END:VCALENDAR