BEGIN:VCALENDAR
VERSION:2.0
BEGIN:VEVENT
DTSTART;TZID=Europe/Stockholm:20220408T190000
DTEND;TZID=Europe/Stockholm:20220408T200000
DTSTAMP:20260422T131708
DESCRIPTION:
SEQUENCE:0
SUMMARY:Kyrkan uthyrd
UID:2977@lawebb.se
END:VEVENT
END:VCALENDAR