BEGIN:VCALENDAR
VERSION:2.0
BEGIN:VEVENT
DTSTART;TZID=Europe/Stockholm:20220401T190000
DTEND;TZID=Europe/Stockholm:20220401T200000
DTSTAMP:20260422T131837
DESCRIPTION:
SEQUENCE:0
SUMMARY:Kyrkan uthyrd
UID:9354@lawebb.se
END:VEVENT
END:VCALENDAR