BEGIN:VCALENDAR
VERSION:2.0
BEGIN:VEVENT
DTSTART;TZID=Europe/Stockholm:20200421T180000
DTEND;TZID=Europe/Stockholm:20200421T190000
DTSTAMP:20260421T161711
DESCRIPTION:Kyrkan öppen för samtal och bön.
SEQUENCE:0
SUMMARY:Bön o lovsång
UID:2466@lawebb.se
END:VEVENT
END:VCALENDAR