BEGIN:VCALENDAR
VERSION:2.0
BEGIN:VEVENT
DTSTART;TZID=Europe/Stockholm:20200407T180000
DTEND;TZID=Europe/Stockholm:20200407T190000
DTSTAMP:20260421T161705
DESCRIPTION:Kyrkan öppen för samtal och bön.
SEQUENCE:0
SUMMARY:Bön o lovsång
UID:4324@lawebb.se
END:VEVENT
END:VCALENDAR